BEGIN:VCALENDAR
VERSION:2.0
PRODID:-//InvisionCommunity Events 4.7.24//EN
METHOD:PUBLISH
CALSCALE:GREGORIAN
REFRESH-INTERVAL:PT15M
X-PUBLISHED-TTL:PT15M
X-WR-CALNAME:All Calendars - Overclockers GE - Because Speed Matters
NAME:All Calendars - Overclockers GE - Because Speed Matters
BEGIN:VTIMEZONE
TZID:Europe/London
TZURL:http://tzurl.org/zoneinfo/Europe/London
X-LIC-LOCATION:Europe/London
BEGIN:DAYLIGHT
TZOFFSETFROM:+0000
TZOFFSETTO:+0100
TZNAME:BST
DTSTART:20170326T020000Z
RRULE:FREQ=YEARLY;BYMONTH=3;BYDAY=-1SU
END:DAYLIGHT
BEGIN:STANDARD
TZOFFSETFROM:+0100
TZOFFSETTO:+0000
TZNAME:GMT
DTSTART:20171029T020000Z
RRULE:FREQ=YEARLY;BYMONTH=10;BYDAY=-1SU
END:STANDARD
END:VTIMEZONE
BEGIN:VEVENT
SUMMARY:ტესტ ივენთი
DTSTAMP:20170813T073115Z
SEQUENCE:0
UID:6-2-cde8467353a4e826c40edb2978541384@www.overclockers.ge
ORGANIZER;CN="Power_VANO":info@overclockers.ge
DESCRIPTION:\n	ტესტ ივენთი\n
DTSTART;VALUE=DATE:20170813
ATTENDEE;CN="Power_VANO";CUTYPE=INDIVIDUAL;PARTSTAT=ACCEPTED
	:info@overclockers.ge
END:VEVENT
END:VCALENDAR
